BEGIN:VCALENDAR
VERSION:2.0
PRODID:-//First Lutheran Church | Janesville, WI - ECPv6.15.19//NONSGML v1.0//EN
CALSCALE:GREGORIAN
METHOD:PUBLISH
X-WR-CALNAME:First Lutheran Church | Janesville, WI
X-ORIGINAL-URL:https://flcj.org
X-WR-CALDESC:Events for First Lutheran Church | Janesville, WI
REFRESH-INTERVAL;VALUE=DURATION:PT1H
X-Robots-Tag:noindex
X-PUBLISHED-TTL:PT1H
BEGIN:VTIMEZONE
TZID:America/Chicago
BEGIN:DAYLIGHT
TZOFFSETFROM:-0600
TZOFFSETTO:-0500
TZNAME:CDT
DTSTART:20280312T080000
END:DAYLIGHT
BEGIN:STANDARD
TZOFFSETFROM:-0500
TZOFFSETTO:-0600
TZNAME:CST
DTSTART:20281105T070000
END:STANDARD
BEGIN:DAYLIGHT
TZOFFSETFROM:-0600
TZOFFSETTO:-0500
TZNAME:CDT
DTSTART:20290311T080000
END:DAYLIGHT
BEGIN:STANDARD
TZOFFSETFROM:-0500
TZOFFSETTO:-0600
TZNAME:CST
DTSTART:20291104T070000
END:STANDARD
BEGIN:DAYLIGHT
TZOFFSETFROM:-0600
TZOFFSETTO:-0500
TZNAME:CDT
DTSTART:20300310T080000
END:DAYLIGHT
BEGIN:STANDARD
TZOFFSETFROM:-0500
TZOFFSETTO:-0600
TZNAME:CST
DTSTART:20301103T070000
END:STANDARD
END:VTIMEZONE
BEGIN:VEVENT
DTSTART;TZID=America/Chicago:20290704T100000
DTEND;TZID=America/Chicago:20290704T110000
DTSTAMP:20260422T191922
CREATED:20260311T042517Z
LAST-MODIFIED:20260420T182844Z
UID:10000800-1877853600-1877857200@flcj.org
SUMMARY:Bible Study
DESCRIPTION:[vc_row css_animation=”” row_type=”row” use_row_as_full_screen_section=”no” type=”full_width” angled_section=”no” text_align=”left” background_image_as_pattern=”without_pattern”][vc_column width=”1/2″][vc_column_text css=””]Please join our Wednesday Bible Study as we begin a new unit using A is for Alabaster: 52 Reflections on the Stories of Scripture by Anna Carter Florence. This 2023 book received great reviews from many well-known theologians. In the coming weeks\, we will be jumping into both Old Testament and New Testament stories through the 52 doors opened by this insightful author. We will meet at Good Shepherd Lutheran Church in Janesville.[/vc_column_text][/vc_column][vc_column width=”1/2″][vc_single_image image=”17345″ img_size=”full” alignment=”center” css=”” qode_css_animation=””][/vc_column][/vc_row]
URL:https://flcj.org/event/bible-study/2029-07-04/
LOCATION:Good Shepherd Janesville\, 700 N Wright Rd\, Janesville\, WI
CATEGORIES:Bible Study
ATTACH;FMTTYPE=image/jpeg:https://flcj.org/wp-content/uploads/2022/08/bible-study.jpeg
ORGANIZER;CN="First Lutheran Church":MAILTO:office@flcj.org
END:VEVENT
BEGIN:VEVENT
DTSTART;TZID=America/Chicago:20290711T100000
DTEND;TZID=America/Chicago:20290711T110000
DTSTAMP:20260422T191922
CREATED:20260311T042517Z
LAST-MODIFIED:20260420T182844Z
UID:10000801-1878458400-1878462000@flcj.org
SUMMARY:Bible Study
DESCRIPTION:[vc_row css_animation=”” row_type=”row” use_row_as_full_screen_section=”no” type=”full_width” angled_section=”no” text_align=”left” background_image_as_pattern=”without_pattern”][vc_column width=”1/2″][vc_column_text css=””]Please join our Wednesday Bible Study as we begin a new unit using A is for Alabaster: 52 Reflections on the Stories of Scripture by Anna Carter Florence. This 2023 book received great reviews from many well-known theologians. In the coming weeks\, we will be jumping into both Old Testament and New Testament stories through the 52 doors opened by this insightful author. We will meet at Good Shepherd Lutheran Church in Janesville.[/vc_column_text][/vc_column][vc_column width=”1/2″][vc_single_image image=”17345″ img_size=”full” alignment=”center” css=”” qode_css_animation=””][/vc_column][/vc_row]
URL:https://flcj.org/event/bible-study/2029-07-11/
LOCATION:Good Shepherd Janesville\, 700 N Wright Rd\, Janesville\, WI
CATEGORIES:Bible Study
ATTACH;FMTTYPE=image/jpeg:https://flcj.org/wp-content/uploads/2022/08/bible-study.jpeg
ORGANIZER;CN="First Lutheran Church":MAILTO:office@flcj.org
END:VEVENT
BEGIN:VEVENT
DTSTART;TZID=America/Chicago:20290718T100000
DTEND;TZID=America/Chicago:20290718T110000
DTSTAMP:20260422T191922
CREATED:20260311T042517Z
LAST-MODIFIED:20260420T182844Z
UID:10000802-1879063200-1879066800@flcj.org
SUMMARY:Bible Study
DESCRIPTION:[vc_row css_animation=”” row_type=”row” use_row_as_full_screen_section=”no” type=”full_width” angled_section=”no” text_align=”left” background_image_as_pattern=”without_pattern”][vc_column width=”1/2″][vc_column_text css=””]Please join our Wednesday Bible Study as we begin a new unit using A is for Alabaster: 52 Reflections on the Stories of Scripture by Anna Carter Florence. This 2023 book received great reviews from many well-known theologians. In the coming weeks\, we will be jumping into both Old Testament and New Testament stories through the 52 doors opened by this insightful author. We will meet at Good Shepherd Lutheran Church in Janesville.[/vc_column_text][/vc_column][vc_column width=”1/2″][vc_single_image image=”17345″ img_size=”full” alignment=”center” css=”” qode_css_animation=””][/vc_column][/vc_row]
URL:https://flcj.org/event/bible-study/2029-07-18/
LOCATION:Good Shepherd Janesville\, 700 N Wright Rd\, Janesville\, WI
CATEGORIES:Bible Study
ATTACH;FMTTYPE=image/jpeg:https://flcj.org/wp-content/uploads/2022/08/bible-study.jpeg
ORGANIZER;CN="First Lutheran Church":MAILTO:office@flcj.org
END:VEVENT
BEGIN:VEVENT
DTSTART;TZID=America/Chicago:20290725T100000
DTEND;TZID=America/Chicago:20290725T110000
DTSTAMP:20260422T191923
CREATED:20260311T042517Z
LAST-MODIFIED:20260420T182844Z
UID:10000803-1879668000-1879671600@flcj.org
SUMMARY:Bible Study
DESCRIPTION:[vc_row css_animation=”” row_type=”row” use_row_as_full_screen_section=”no” type=”full_width” angled_section=”no” text_align=”left” background_image_as_pattern=”without_pattern”][vc_column width=”1/2″][vc_column_text css=””]Please join our Wednesday Bible Study as we begin a new unit using A is for Alabaster: 52 Reflections on the Stories of Scripture by Anna Carter Florence. This 2023 book received great reviews from many well-known theologians. In the coming weeks\, we will be jumping into both Old Testament and New Testament stories through the 52 doors opened by this insightful author. We will meet at Good Shepherd Lutheran Church in Janesville.[/vc_column_text][/vc_column][vc_column width=”1/2″][vc_single_image image=”17345″ img_size=”full” alignment=”center” css=”” qode_css_animation=””][/vc_column][/vc_row]
URL:https://flcj.org/event/bible-study/2029-07-25/
LOCATION:Good Shepherd Janesville\, 700 N Wright Rd\, Janesville\, WI
CATEGORIES:Bible Study
ATTACH;FMTTYPE=image/jpeg:https://flcj.org/wp-content/uploads/2022/08/bible-study.jpeg
ORGANIZER;CN="First Lutheran Church":MAILTO:office@flcj.org
END:VEVENT
END:VCALENDAR