BEGIN:VCALENDAR
VERSION:2.0
PRODID:-//First Lutheran Church | Janesville, WI - ECPv6.15.19//NONSGML v1.0//EN
CALSCALE:GREGORIAN
METHOD:PUBLISH
X-ORIGINAL-URL:https://flcj.org
X-WR-CALDESC:Events for First Lutheran Church | Janesville, WI
REFRESH-INTERVAL;VALUE=DURATION:PT1H
X-Robots-Tag:noindex
X-PUBLISHED-TTL:PT1H
BEGIN:VTIMEZONE
TZID:America/Chicago
BEGIN:DAYLIGHT
TZOFFSETFROM:-0600
TZOFFSETTO:-0500
TZNAME:CDT
DTSTART:20290311T080000
END:DAYLIGHT
BEGIN:STANDARD
TZOFFSETFROM:-0500
TZOFFSETTO:-0600
TZNAME:CST
DTSTART:20291104T070000
END:STANDARD
BEGIN:DAYLIGHT
TZOFFSETFROM:-0600
TZOFFSETTO:-0500
TZNAME:CDT
DTSTART:20300310T080000
END:DAYLIGHT
BEGIN:STANDARD
TZOFFSETFROM:-0500
TZOFFSETTO:-0600
TZNAME:CST
DTSTART:20301103T070000
END:STANDARD
BEGIN:DAYLIGHT
TZOFFSETFROM:-0600
TZOFFSETTO:-0500
TZNAME:CDT
DTSTART:20310309T080000
END:DAYLIGHT
BEGIN:STANDARD
TZOFFSETFROM:-0500
TZOFFSETTO:-0600
TZNAME:CST
DTSTART:20311102T070000
END:STANDARD
END:VTIMEZONE
BEGIN:VEVENT
DTSTART;TZID=America/Chicago:20300102T100000
DTEND;TZID=America/Chicago:20300102T110000
DTSTAMP:20260423T035902
CREATED:20260311T042517Z
LAST-MODIFIED:20260420T182844Z
UID:10000826-1893578400-1893582000@flcj.org
SUMMARY:Bible Study
DESCRIPTION:[vc_row css_animation=”” row_type=”row” use_row_as_full_screen_section=”no” type=”full_width” angled_section=”no” text_align=”left” background_image_as_pattern=”without_pattern”][vc_column width=”1/2″][vc_column_text css=””]Please join our Wednesday Bible Study as we begin a new unit using A is for Alabaster: 52 Reflections on the Stories of Scripture by Anna Carter Florence. This 2023 book received great reviews from many well-known theologians. In the coming weeks\, we will be jumping into both Old Testament and New Testament stories through the 52 doors opened by this insightful author. We will meet at Good Shepherd Lutheran Church in Janesville.[/vc_column_text][/vc_column][vc_column width=”1/2″][vc_single_image image=”17345″ img_size=”full” alignment=”center” css=”” qode_css_animation=””][/vc_column][/vc_row]
URL:https://flcj.org/event/bible-study/2030-01-02/
LOCATION:Good Shepherd Janesville\, 700 N Wright Rd\, Janesville\, WI
CATEGORIES:Bible Study
ATTACH;FMTTYPE=image/jpeg:https://flcj.org/wp-content/uploads/2022/08/bible-study.jpeg
ORGANIZER;CN="First Lutheran Church":MAILTO:office@flcj.org
END:VEVENT
BEGIN:VEVENT
DTSTART;TZID=America/Chicago:20300109T100000
DTEND;TZID=America/Chicago:20300109T110000
DTSTAMP:20260423T035902
CREATED:20260311T042517Z
LAST-MODIFIED:20260420T182844Z
UID:10000827-1894183200-1894186800@flcj.org
SUMMARY:Bible Study
DESCRIPTION:[vc_row css_animation=”” row_type=”row” use_row_as_full_screen_section=”no” type=”full_width” angled_section=”no” text_align=”left” background_image_as_pattern=”without_pattern”][vc_column width=”1/2″][vc_column_text css=””]Please join our Wednesday Bible Study as we begin a new unit using A is for Alabaster: 52 Reflections on the Stories of Scripture by Anna Carter Florence. This 2023 book received great reviews from many well-known theologians. In the coming weeks\, we will be jumping into both Old Testament and New Testament stories through the 52 doors opened by this insightful author. We will meet at Good Shepherd Lutheran Church in Janesville.[/vc_column_text][/vc_column][vc_column width=”1/2″][vc_single_image image=”17345″ img_size=”full” alignment=”center” css=”” qode_css_animation=””][/vc_column][/vc_row]
URL:https://flcj.org/event/bible-study/2030-01-09/
LOCATION:Good Shepherd Janesville\, 700 N Wright Rd\, Janesville\, WI
CATEGORIES:Bible Study
ATTACH;FMTTYPE=image/jpeg:https://flcj.org/wp-content/uploads/2022/08/bible-study.jpeg
ORGANIZER;CN="First Lutheran Church":MAILTO:office@flcj.org
END:VEVENT
BEGIN:VEVENT
DTSTART;TZID=America/Chicago:20300116T100000
DTEND;TZID=America/Chicago:20300116T110000
DTSTAMP:20260423T035902
CREATED:20260311T042517Z
LAST-MODIFIED:20260420T182844Z
UID:10000828-1894788000-1894791600@flcj.org
SUMMARY:Bible Study
DESCRIPTION:[vc_row css_animation=”” row_type=”row” use_row_as_full_screen_section=”no” type=”full_width” angled_section=”no” text_align=”left” background_image_as_pattern=”without_pattern”][vc_column width=”1/2″][vc_column_text css=””]Please join our Wednesday Bible Study as we begin a new unit using A is for Alabaster: 52 Reflections on the Stories of Scripture by Anna Carter Florence. This 2023 book received great reviews from many well-known theologians. In the coming weeks\, we will be jumping into both Old Testament and New Testament stories through the 52 doors opened by this insightful author. We will meet at Good Shepherd Lutheran Church in Janesville.[/vc_column_text][/vc_column][vc_column width=”1/2″][vc_single_image image=”17345″ img_size=”full” alignment=”center” css=”” qode_css_animation=””][/vc_column][/vc_row]
URL:https://flcj.org/event/bible-study/2030-01-16/
LOCATION:Good Shepherd Janesville\, 700 N Wright Rd\, Janesville\, WI
CATEGORIES:Bible Study
ATTACH;FMTTYPE=image/jpeg:https://flcj.org/wp-content/uploads/2022/08/bible-study.jpeg
ORGANIZER;CN="First Lutheran Church":MAILTO:office@flcj.org
END:VEVENT
BEGIN:VEVENT
DTSTART;TZID=America/Chicago:20300123T100000
DTEND;TZID=America/Chicago:20300123T110000
DTSTAMP:20260423T035902
CREATED:20260311T042517Z
LAST-MODIFIED:20260420T182844Z
UID:10000829-1895392800-1895396400@flcj.org
SUMMARY:Bible Study
DESCRIPTION:[vc_row css_animation=”” row_type=”row” use_row_as_full_screen_section=”no” type=”full_width” angled_section=”no” text_align=”left” background_image_as_pattern=”without_pattern”][vc_column width=”1/2″][vc_column_text css=””]Please join our Wednesday Bible Study as we begin a new unit using A is for Alabaster: 52 Reflections on the Stories of Scripture by Anna Carter Florence. This 2023 book received great reviews from many well-known theologians. In the coming weeks\, we will be jumping into both Old Testament and New Testament stories through the 52 doors opened by this insightful author. We will meet at Good Shepherd Lutheran Church in Janesville.[/vc_column_text][/vc_column][vc_column width=”1/2″][vc_single_image image=”17345″ img_size=”full” alignment=”center” css=”” qode_css_animation=””][/vc_column][/vc_row]
URL:https://flcj.org/event/bible-study/2030-01-23/
LOCATION:Good Shepherd Janesville\, 700 N Wright Rd\, Janesville\, WI
CATEGORIES:Bible Study
ATTACH;FMTTYPE=image/jpeg:https://flcj.org/wp-content/uploads/2022/08/bible-study.jpeg
ORGANIZER;CN="First Lutheran Church":MAILTO:office@flcj.org
END:VEVENT
BEGIN:VEVENT
DTSTART;TZID=America/Chicago:20300130T100000
DTEND;TZID=America/Chicago:20300130T110000
DTSTAMP:20260423T035902
CREATED:20260311T042517Z
LAST-MODIFIED:20260420T182844Z
UID:10000830-1895997600-1896001200@flcj.org
SUMMARY:Bible Study
DESCRIPTION:[vc_row css_animation=”” row_type=”row” use_row_as_full_screen_section=”no” type=”full_width” angled_section=”no” text_align=”left” background_image_as_pattern=”without_pattern”][vc_column width=”1/2″][vc_column_text css=””]Please join our Wednesday Bible Study as we begin a new unit using A is for Alabaster: 52 Reflections on the Stories of Scripture by Anna Carter Florence. This 2023 book received great reviews from many well-known theologians. In the coming weeks\, we will be jumping into both Old Testament and New Testament stories through the 52 doors opened by this insightful author. We will meet at Good Shepherd Lutheran Church in Janesville.[/vc_column_text][/vc_column][vc_column width=”1/2″][vc_single_image image=”17345″ img_size=”full” alignment=”center” css=”” qode_css_animation=””][/vc_column][/vc_row]
URL:https://flcj.org/event/bible-study/2030-01-30/
LOCATION:Good Shepherd Janesville\, 700 N Wright Rd\, Janesville\, WI
CATEGORIES:Bible Study
ATTACH;FMTTYPE=image/jpeg:https://flcj.org/wp-content/uploads/2022/08/bible-study.jpeg
ORGANIZER;CN="First Lutheran Church":MAILTO:office@flcj.org
END:VEVENT
END:VCALENDAR