BEGIN:VCALENDAR
VERSION:2.0
PRODID:-//First Lutheran Church | Janesville, WI - ECPv6.15.19//NONSGML v1.0//EN
CALSCALE:GREGORIAN
METHOD:PUBLISH
X-WR-CALNAME:First Lutheran Church | Janesville, WI
X-ORIGINAL-URL:https://flcj.org
X-WR-CALDESC:Events for First Lutheran Church | Janesville, WI
REFRESH-INTERVAL;VALUE=DURATION:PT1H
X-Robots-Tag:noindex
X-PUBLISHED-TTL:PT1H
BEGIN:VTIMEZONE
TZID:America/Chicago
BEGIN:DAYLIGHT
TZOFFSETFROM:-0600
TZOFFSETTO:-0500
TZNAME:CDT
DTSTART:20290311T080000
END:DAYLIGHT
BEGIN:STANDARD
TZOFFSETFROM:-0500
TZOFFSETTO:-0600
TZNAME:CST
DTSTART:20291104T070000
END:STANDARD
BEGIN:DAYLIGHT
TZOFFSETFROM:-0600
TZOFFSETTO:-0500
TZNAME:CDT
DTSTART:20300310T080000
END:DAYLIGHT
BEGIN:STANDARD
TZOFFSETFROM:-0500
TZOFFSETTO:-0600
TZNAME:CST
DTSTART:20301103T070000
END:STANDARD
BEGIN:DAYLIGHT
TZOFFSETFROM:-0600
TZOFFSETTO:-0500
TZNAME:CDT
DTSTART:20310309T080000
END:DAYLIGHT
BEGIN:STANDARD
TZOFFSETFROM:-0500
TZOFFSETTO:-0600
TZNAME:CST
DTSTART:20311102T070000
END:STANDARD
BEGIN:DAYLIGHT
TZOFFSETFROM:-0600
TZOFFSETTO:-0500
TZNAME:CDT
DTSTART:20320314T080000
END:DAYLIGHT
BEGIN:STANDARD
TZOFFSETFROM:-0500
TZOFFSETTO:-0600
TZNAME:CST
DTSTART:20321107T070000
END:STANDARD
END:VTIMEZONE
BEGIN:VEVENT
DTSTART;TZID=America/Chicago:20300730T090000
DTEND;TZID=America/Chicago:20300730T103000
DTSTAMP:20260421T042148
CREATED:20260317T221022Z
LAST-MODIFIED:20260319T152343Z
UID:10001165-1911632400-1911637800@flcj.org
SUMMARY:Knitters
DESCRIPTION:[vc_row css_animation=”” row_type=”row” use_row_as_full_screen_section=”no” type=”full_width” angled_section=”no” text_align=”left” background_image_as_pattern=”without_pattern”][vc_column width=”1/2″][vc_column_text css=””]Join us at 9am in the Gathering Space for smiles\, laughs\, and lots of knitting![/vc_column_text][/vc_column][vc_column width=”1/2″][vc_single_image image=”22104″ img_size=”full” alignment=”center” css=”” qode_css_animation=””][/vc_column][/vc_row]
URL:https://flcj.org/event/knitters/2030-07-30/
LOCATION:Gathering Space
CATEGORIES:Knitters
ATTACH;FMTTYPE=image/jpeg:https://flcj.org/wp-content/uploads/2026/03/knitting-WEB-events.jpg
ORGANIZER;CN="First Lutheran Church":MAILTO:office@flcj.org
END:VEVENT
BEGIN:VEVENT
DTSTART;TZID=America/Chicago:20300806T090000
DTEND;TZID=America/Chicago:20300806T103000
DTSTAMP:20260421T042148
CREATED:20260319T150816Z
LAST-MODIFIED:20260319T151917Z
UID:10001241-1912237200-1912242600@flcj.org
SUMMARY:Knitters
DESCRIPTION:[vc_row css_animation=”” row_type=”row” use_row_as_full_screen_section=”no” type=”full_width” angled_section=”no” text_align=”left” background_image_as_pattern=”without_pattern”][vc_column width=”1/2″][vc_column_text css=””]Join us at 9am in the Gathering Space for smiles\, laughs\, and lots of knitting![/vc_column_text][/vc_column][vc_column width=”1/2″][vc_single_image image=”22104″ img_size=”full” alignment=”center” css=”” qode_css_animation=””][/vc_column][/vc_row]
URL:https://flcj.org/event/knitters-2/2030-08-06/
LOCATION:Gathering Space
CATEGORIES:Knitters
ATTACH;FMTTYPE=image/jpeg:https://flcj.org/wp-content/uploads/2026/03/knitting-WEB-events.jpg
ORGANIZER;CN="First Lutheran Church":MAILTO:office@flcj.org
END:VEVENT
BEGIN:VEVENT
DTSTART;TZID=America/Chicago:20300820T090000
DTEND;TZID=America/Chicago:20300820T103000
DTSTAMP:20260421T042148
CREATED:20260319T150948Z
LAST-MODIFIED:20260319T151705Z
UID:10001361-1913446800-1913452200@flcj.org
SUMMARY:Knitters
DESCRIPTION:[vc_row css_animation=”” row_type=”row” use_row_as_full_screen_section=”no” type=”full_width” angled_section=”no” text_align=”left” background_image_as_pattern=”without_pattern”][vc_column width=”1/2″][vc_column_text css=””]Join us at 9am in the Gathering Space for smiles\, laughs\, and lots of knitting![/vc_column_text][/vc_column][vc_column width=”1/2″][vc_single_image image=”22104″ img_size=”full” alignment=”center” css=”” qode_css_animation=””][/vc_column][/vc_row]
URL:https://flcj.org/event/knitters-3/2030-08-20/
LOCATION:Gathering Space
CATEGORIES:Knitters
ATTACH;FMTTYPE=image/jpeg:https://flcj.org/wp-content/uploads/2026/03/knitting-WEB-events.jpg
ORGANIZER;CN="First Lutheran Church":MAILTO:office@flcj.org
END:VEVENT
BEGIN:VEVENT
DTSTART;TZID=America/Chicago:20300903T090000
DTEND;TZID=America/Chicago:20300903T103000
DTSTAMP:20260421T042148
CREATED:20260319T150816Z
LAST-MODIFIED:20260319T151917Z
UID:10001242-1914656400-1914661800@flcj.org
SUMMARY:Knitters
DESCRIPTION:[vc_row css_animation=”” row_type=”row” use_row_as_full_screen_section=”no” type=”full_width” angled_section=”no” text_align=”left” background_image_as_pattern=”without_pattern”][vc_column width=”1/2″][vc_column_text css=””]Join us at 9am in the Gathering Space for smiles\, laughs\, and lots of knitting![/vc_column_text][/vc_column][vc_column width=”1/2″][vc_single_image image=”22104″ img_size=”full” alignment=”center” css=”” qode_css_animation=””][/vc_column][/vc_row]
URL:https://flcj.org/event/knitters-2/2030-09-03/
LOCATION:Gathering Space
CATEGORIES:Knitters
ATTACH;FMTTYPE=image/jpeg:https://flcj.org/wp-content/uploads/2026/03/knitting-WEB-events.jpg
ORGANIZER;CN="First Lutheran Church":MAILTO:office@flcj.org
END:VEVENT
BEGIN:VEVENT
DTSTART;TZID=America/Chicago:20300917T090000
DTEND;TZID=America/Chicago:20300917T103000
DTSTAMP:20260421T042148
CREATED:20260319T150948Z
LAST-MODIFIED:20260319T151705Z
UID:10001362-1915866000-1915871400@flcj.org
SUMMARY:Knitters
DESCRIPTION:[vc_row css_animation=”” row_type=”row” use_row_as_full_screen_section=”no” type=”full_width” angled_section=”no” text_align=”left” background_image_as_pattern=”without_pattern”][vc_column width=”1/2″][vc_column_text css=””]Join us at 9am in the Gathering Space for smiles\, laughs\, and lots of knitting![/vc_column_text][/vc_column][vc_column width=”1/2″][vc_single_image image=”22104″ img_size=”full” alignment=”center” css=”” qode_css_animation=””][/vc_column][/vc_row]
URL:https://flcj.org/event/knitters-3/2030-09-17/
LOCATION:Gathering Space
CATEGORIES:Knitters
ATTACH;FMTTYPE=image/jpeg:https://flcj.org/wp-content/uploads/2026/03/knitting-WEB-events.jpg
ORGANIZER;CN="First Lutheran Church":MAILTO:office@flcj.org
END:VEVENT
BEGIN:VEVENT
DTSTART;TZID=America/Chicago:20301001T090000
DTEND;TZID=America/Chicago:20301001T103000
DTSTAMP:20260421T042148
CREATED:20260319T150816Z
LAST-MODIFIED:20260319T151917Z
UID:10001243-1917075600-1917081000@flcj.org
SUMMARY:Knitters
DESCRIPTION:[vc_row css_animation=”” row_type=”row” use_row_as_full_screen_section=”no” type=”full_width” angled_section=”no” text_align=”left” background_image_as_pattern=”without_pattern”][vc_column width=”1/2″][vc_column_text css=””]Join us at 9am in the Gathering Space for smiles\, laughs\, and lots of knitting![/vc_column_text][/vc_column][vc_column width=”1/2″][vc_single_image image=”22104″ img_size=”full” alignment=”center” css=”” qode_css_animation=””][/vc_column][/vc_row]
URL:https://flcj.org/event/knitters-2/2030-10-01/
LOCATION:Gathering Space
CATEGORIES:Knitters
ATTACH;FMTTYPE=image/jpeg:https://flcj.org/wp-content/uploads/2026/03/knitting-WEB-events.jpg
ORGANIZER;CN="First Lutheran Church":MAILTO:office@flcj.org
END:VEVENT
BEGIN:VEVENT
DTSTART;TZID=America/Chicago:20301015T090000
DTEND;TZID=America/Chicago:20301015T103000
DTSTAMP:20260421T042148
CREATED:20260319T150948Z
LAST-MODIFIED:20260319T151705Z
UID:10001363-1918285200-1918290600@flcj.org
SUMMARY:Knitters
DESCRIPTION:[vc_row css_animation=”” row_type=”row” use_row_as_full_screen_section=”no” type=”full_width” angled_section=”no” text_align=”left” background_image_as_pattern=”without_pattern”][vc_column width=”1/2″][vc_column_text css=””]Join us at 9am in the Gathering Space for smiles\, laughs\, and lots of knitting![/vc_column_text][/vc_column][vc_column width=”1/2″][vc_single_image image=”22104″ img_size=”full” alignment=”center” css=”” qode_css_animation=””][/vc_column][/vc_row]
URL:https://flcj.org/event/knitters-3/2030-10-15/
LOCATION:Gathering Space
CATEGORIES:Knitters
ATTACH;FMTTYPE=image/jpeg:https://flcj.org/wp-content/uploads/2026/03/knitting-WEB-events.jpg
ORGANIZER;CN="First Lutheran Church":MAILTO:office@flcj.org
END:VEVENT
BEGIN:VEVENT
DTSTART;TZID=America/Chicago:20301029T090000
DTEND;TZID=America/Chicago:20301029T103000
DTSTAMP:20260421T042148
CREATED:20260317T221022Z
LAST-MODIFIED:20260319T152343Z
UID:10001166-1919494800-1919500200@flcj.org
SUMMARY:Knitters
DESCRIPTION:[vc_row css_animation=”” row_type=”row” use_row_as_full_screen_section=”no” type=”full_width” angled_section=”no” text_align=”left” background_image_as_pattern=”without_pattern”][vc_column width=”1/2″][vc_column_text css=””]Join us at 9am in the Gathering Space for smiles\, laughs\, and lots of knitting![/vc_column_text][/vc_column][vc_column width=”1/2″][vc_single_image image=”22104″ img_size=”full” alignment=”center” css=”” qode_css_animation=””][/vc_column][/vc_row]
URL:https://flcj.org/event/knitters/2030-10-29/
LOCATION:Gathering Space
CATEGORIES:Knitters
ATTACH;FMTTYPE=image/jpeg:https://flcj.org/wp-content/uploads/2026/03/knitting-WEB-events.jpg
ORGANIZER;CN="First Lutheran Church":MAILTO:office@flcj.org
END:VEVENT
BEGIN:VEVENT
DTSTART;TZID=America/Chicago:20301105T090000
DTEND;TZID=America/Chicago:20301105T103000
DTSTAMP:20260421T042148
CREATED:20260319T150816Z
LAST-MODIFIED:20260319T151917Z
UID:10001244-1920099600-1920105000@flcj.org
SUMMARY:Knitters
DESCRIPTION:[vc_row css_animation=”” row_type=”row” use_row_as_full_screen_section=”no” type=”full_width” angled_section=”no” text_align=”left” background_image_as_pattern=”without_pattern”][vc_column width=”1/2″][vc_column_text css=””]Join us at 9am in the Gathering Space for smiles\, laughs\, and lots of knitting![/vc_column_text][/vc_column][vc_column width=”1/2″][vc_single_image image=”22104″ img_size=”full” alignment=”center” css=”” qode_css_animation=””][/vc_column][/vc_row]
URL:https://flcj.org/event/knitters-2/2030-11-05/
LOCATION:Gathering Space
CATEGORIES:Knitters
ATTACH;FMTTYPE=image/jpeg:https://flcj.org/wp-content/uploads/2026/03/knitting-WEB-events.jpg
ORGANIZER;CN="First Lutheran Church":MAILTO:office@flcj.org
END:VEVENT
BEGIN:VEVENT
DTSTART;TZID=America/Chicago:20301119T090000
DTEND;TZID=America/Chicago:20301119T103000
DTSTAMP:20260421T042148
CREATED:20260319T150948Z
LAST-MODIFIED:20260319T151705Z
UID:10001364-1921309200-1921314600@flcj.org
SUMMARY:Knitters
DESCRIPTION:[vc_row css_animation=”” row_type=”row” use_row_as_full_screen_section=”no” type=”full_width” angled_section=”no” text_align=”left” background_image_as_pattern=”without_pattern”][vc_column width=”1/2″][vc_column_text css=””]Join us at 9am in the Gathering Space for smiles\, laughs\, and lots of knitting![/vc_column_text][/vc_column][vc_column width=”1/2″][vc_single_image image=”22104″ img_size=”full” alignment=”center” css=”” qode_css_animation=””][/vc_column][/vc_row]
URL:https://flcj.org/event/knitters-3/2030-11-19/
LOCATION:Gathering Space
CATEGORIES:Knitters
ATTACH;FMTTYPE=image/jpeg:https://flcj.org/wp-content/uploads/2026/03/knitting-WEB-events.jpg
ORGANIZER;CN="First Lutheran Church":MAILTO:office@flcj.org
END:VEVENT
BEGIN:VEVENT
DTSTART;TZID=America/Chicago:20301203T090000
DTEND;TZID=America/Chicago:20301203T103000
DTSTAMP:20260421T042148
CREATED:20260319T150816Z
LAST-MODIFIED:20260319T151917Z
UID:10001245-1922518800-1922524200@flcj.org
SUMMARY:Knitters
DESCRIPTION:[vc_row css_animation=”” row_type=”row” use_row_as_full_screen_section=”no” type=”full_width” angled_section=”no” text_align=”left” background_image_as_pattern=”without_pattern”][vc_column width=”1/2″][vc_column_text css=””]Join us at 9am in the Gathering Space for smiles\, laughs\, and lots of knitting![/vc_column_text][/vc_column][vc_column width=”1/2″][vc_single_image image=”22104″ img_size=”full” alignment=”center” css=”” qode_css_animation=””][/vc_column][/vc_row]
URL:https://flcj.org/event/knitters-2/2030-12-03/
LOCATION:Gathering Space
CATEGORIES:Knitters
ATTACH;FMTTYPE=image/jpeg:https://flcj.org/wp-content/uploads/2026/03/knitting-WEB-events.jpg
ORGANIZER;CN="First Lutheran Church":MAILTO:office@flcj.org
END:VEVENT
BEGIN:VEVENT
DTSTART;TZID=America/Chicago:20301217T090000
DTEND;TZID=America/Chicago:20301217T103000
DTSTAMP:20260421T042148
CREATED:20260319T150948Z
LAST-MODIFIED:20260319T151705Z
UID:10001365-1923728400-1923733800@flcj.org
SUMMARY:Knitters
DESCRIPTION:[vc_row css_animation=”” row_type=”row” use_row_as_full_screen_section=”no” type=”full_width” angled_section=”no” text_align=”left” background_image_as_pattern=”without_pattern”][vc_column width=”1/2″][vc_column_text css=””]Join us at 9am in the Gathering Space for smiles\, laughs\, and lots of knitting![/vc_column_text][/vc_column][vc_column width=”1/2″][vc_single_image image=”22104″ img_size=”full” alignment=”center” css=”” qode_css_animation=””][/vc_column][/vc_row]
URL:https://flcj.org/event/knitters-3/2030-12-17/
LOCATION:Gathering Space
CATEGORIES:Knitters
ATTACH;FMTTYPE=image/jpeg:https://flcj.org/wp-content/uploads/2026/03/knitting-WEB-events.jpg
ORGANIZER;CN="First Lutheran Church":MAILTO:office@flcj.org
END:VEVENT
BEGIN:VEVENT
DTSTART;TZID=America/Chicago:20301231T090000
DTEND;TZID=America/Chicago:20301231T103000
DTSTAMP:20260421T042148
CREATED:20260317T221022Z
LAST-MODIFIED:20260319T152343Z
UID:10001167-1924938000-1924943400@flcj.org
SUMMARY:Knitters
DESCRIPTION:[vc_row css_animation=”” row_type=”row” use_row_as_full_screen_section=”no” type=”full_width” angled_section=”no” text_align=”left” background_image_as_pattern=”without_pattern”][vc_column width=”1/2″][vc_column_text css=””]Join us at 9am in the Gathering Space for smiles\, laughs\, and lots of knitting![/vc_column_text][/vc_column][vc_column width=”1/2″][vc_single_image image=”22104″ img_size=”full” alignment=”center” css=”” qode_css_animation=””][/vc_column][/vc_row]
URL:https://flcj.org/event/knitters/2030-12-31/
LOCATION:Gathering Space
CATEGORIES:Knitters
ATTACH;FMTTYPE=image/jpeg:https://flcj.org/wp-content/uploads/2026/03/knitting-WEB-events.jpg
ORGANIZER;CN="First Lutheran Church":MAILTO:office@flcj.org
END:VEVENT
BEGIN:VEVENT
DTSTART;TZID=America/Chicago:20310107T090000
DTEND;TZID=America/Chicago:20310107T103000
DTSTAMP:20260421T042148
CREATED:20260319T150816Z
LAST-MODIFIED:20260319T151917Z
UID:10001246-1925542800-1925548200@flcj.org
SUMMARY:Knitters
DESCRIPTION:[vc_row css_animation=”” row_type=”row” use_row_as_full_screen_section=”no” type=”full_width” angled_section=”no” text_align=”left” background_image_as_pattern=”without_pattern”][vc_column width=”1/2″][vc_column_text css=””]Join us at 9am in the Gathering Space for smiles\, laughs\, and lots of knitting![/vc_column_text][/vc_column][vc_column width=”1/2″][vc_single_image image=”22104″ img_size=”full” alignment=”center” css=”” qode_css_animation=””][/vc_column][/vc_row]
URL:https://flcj.org/event/knitters-2/2031-01-07/
LOCATION:Gathering Space
CATEGORIES:Knitters
ATTACH;FMTTYPE=image/jpeg:https://flcj.org/wp-content/uploads/2026/03/knitting-WEB-events.jpg
ORGANIZER;CN="First Lutheran Church":MAILTO:office@flcj.org
END:VEVENT
BEGIN:VEVENT
DTSTART;TZID=America/Chicago:20310121T090000
DTEND;TZID=America/Chicago:20310121T103000
DTSTAMP:20260421T042148
CREATED:20260319T150948Z
LAST-MODIFIED:20260319T151705Z
UID:10001366-1926752400-1926757800@flcj.org
SUMMARY:Knitters
DESCRIPTION:[vc_row css_animation=”” row_type=”row” use_row_as_full_screen_section=”no” type=”full_width” angled_section=”no” text_align=”left” background_image_as_pattern=”without_pattern”][vc_column width=”1/2″][vc_column_text css=””]Join us at 9am in the Gathering Space for smiles\, laughs\, and lots of knitting![/vc_column_text][/vc_column][vc_column width=”1/2″][vc_single_image image=”22104″ img_size=”full” alignment=”center” css=”” qode_css_animation=””][/vc_column][/vc_row]
URL:https://flcj.org/event/knitters-3/2031-01-21/
LOCATION:Gathering Space
CATEGORIES:Knitters
ATTACH;FMTTYPE=image/jpeg:https://flcj.org/wp-content/uploads/2026/03/knitting-WEB-events.jpg
ORGANIZER;CN="First Lutheran Church":MAILTO:office@flcj.org
END:VEVENT
BEGIN:VEVENT
DTSTART;TZID=America/Chicago:20310204T090000
DTEND;TZID=America/Chicago:20310204T103000
DTSTAMP:20260421T042148
CREATED:20260319T150816Z
LAST-MODIFIED:20260319T151917Z
UID:10001247-1927962000-1927967400@flcj.org
SUMMARY:Knitters
DESCRIPTION:[vc_row css_animation=”” row_type=”row” use_row_as_full_screen_section=”no” type=”full_width” angled_section=”no” text_align=”left” background_image_as_pattern=”without_pattern”][vc_column width=”1/2″][vc_column_text css=””]Join us at 9am in the Gathering Space for smiles\, laughs\, and lots of knitting![/vc_column_text][/vc_column][vc_column width=”1/2″][vc_single_image image=”22104″ img_size=”full” alignment=”center” css=”” qode_css_animation=””][/vc_column][/vc_row]
URL:https://flcj.org/event/knitters-2/2031-02-04/
LOCATION:Gathering Space
CATEGORIES:Knitters
ATTACH;FMTTYPE=image/jpeg:https://flcj.org/wp-content/uploads/2026/03/knitting-WEB-events.jpg
ORGANIZER;CN="First Lutheran Church":MAILTO:office@flcj.org
END:VEVENT
BEGIN:VEVENT
DTSTART;TZID=America/Chicago:20310218T090000
DTEND;TZID=America/Chicago:20310218T103000
DTSTAMP:20260421T042148
CREATED:20260319T150948Z
LAST-MODIFIED:20260319T151705Z
UID:10001367-1929171600-1929177000@flcj.org
SUMMARY:Knitters
DESCRIPTION:[vc_row css_animation=”” row_type=”row” use_row_as_full_screen_section=”no” type=”full_width” angled_section=”no” text_align=”left” background_image_as_pattern=”without_pattern”][vc_column width=”1/2″][vc_column_text css=””]Join us at 9am in the Gathering Space for smiles\, laughs\, and lots of knitting![/vc_column_text][/vc_column][vc_column width=”1/2″][vc_single_image image=”22104″ img_size=”full” alignment=”center” css=”” qode_css_animation=””][/vc_column][/vc_row]
URL:https://flcj.org/event/knitters-3/2031-02-18/
LOCATION:Gathering Space
CATEGORIES:Knitters
ATTACH;FMTTYPE=image/jpeg:https://flcj.org/wp-content/uploads/2026/03/knitting-WEB-events.jpg
ORGANIZER;CN="First Lutheran Church":MAILTO:office@flcj.org
END:VEVENT
BEGIN:VEVENT
DTSTART;TZID=America/Chicago:20310304T090000
DTEND;TZID=America/Chicago:20310304T103000
DTSTAMP:20260421T042148
CREATED:20260319T150816Z
LAST-MODIFIED:20260319T151917Z
UID:10001248-1930381200-1930386600@flcj.org
SUMMARY:Knitters
DESCRIPTION:[vc_row css_animation=”” row_type=”row” use_row_as_full_screen_section=”no” type=”full_width” angled_section=”no” text_align=”left” background_image_as_pattern=”without_pattern”][vc_column width=”1/2″][vc_column_text css=””]Join us at 9am in the Gathering Space for smiles\, laughs\, and lots of knitting![/vc_column_text][/vc_column][vc_column width=”1/2″][vc_single_image image=”22104″ img_size=”full” alignment=”center” css=”” qode_css_animation=””][/vc_column][/vc_row]
URL:https://flcj.org/event/knitters-2/2031-03-04/
LOCATION:Gathering Space
CATEGORIES:Knitters
ATTACH;FMTTYPE=image/jpeg:https://flcj.org/wp-content/uploads/2026/03/knitting-WEB-events.jpg
ORGANIZER;CN="First Lutheran Church":MAILTO:office@flcj.org
END:VEVENT
BEGIN:VEVENT
DTSTART;TZID=America/Chicago:20310318T090000
DTEND;TZID=America/Chicago:20310318T103000
DTSTAMP:20260421T042148
CREATED:20260319T150948Z
LAST-MODIFIED:20260319T151705Z
UID:10001368-1931590800-1931596200@flcj.org
SUMMARY:Knitters
DESCRIPTION:[vc_row css_animation=”” row_type=”row” use_row_as_full_screen_section=”no” type=”full_width” angled_section=”no” text_align=”left” background_image_as_pattern=”without_pattern”][vc_column width=”1/2″][vc_column_text css=””]Join us at 9am in the Gathering Space for smiles\, laughs\, and lots of knitting![/vc_column_text][/vc_column][vc_column width=”1/2″][vc_single_image image=”22104″ img_size=”full” alignment=”center” css=”” qode_css_animation=””][/vc_column][/vc_row]
URL:https://flcj.org/event/knitters-3/2031-03-18/
LOCATION:Gathering Space
CATEGORIES:Knitters
ATTACH;FMTTYPE=image/jpeg:https://flcj.org/wp-content/uploads/2026/03/knitting-WEB-events.jpg
ORGANIZER;CN="First Lutheran Church":MAILTO:office@flcj.org
END:VEVENT
END:VCALENDAR