BEGIN:VCALENDAR
VERSION:2.0
PRODID:-//First Lutheran Church | Janesville, WI - ECPv6.15.19//NONSGML v1.0//EN
CALSCALE:GREGORIAN
METHOD:PUBLISH
X-ORIGINAL-URL:https://flcj.org
X-WR-CALDESC:Events for First Lutheran Church | Janesville, WI
REFRESH-INTERVAL;VALUE=DURATION:PT1H
X-Robots-Tag:noindex
X-PUBLISHED-TTL:PT1H
BEGIN:VTIMEZONE
TZID:America/Chicago
BEGIN:DAYLIGHT
TZOFFSETFROM:-0600
TZOFFSETTO:-0500
TZNAME:CDT
DTSTART:20250309T080000
END:DAYLIGHT
BEGIN:STANDARD
TZOFFSETFROM:-0500
TZOFFSETTO:-0600
TZNAME:CST
DTSTART:20251102T070000
END:STANDARD
BEGIN:DAYLIGHT
TZOFFSETFROM:-0600
TZOFFSETTO:-0500
TZNAME:CDT
DTSTART:20260308T080000
END:DAYLIGHT
BEGIN:STANDARD
TZOFFSETFROM:-0500
TZOFFSETTO:-0600
TZNAME:CST
DTSTART:20261101T070000
END:STANDARD
BEGIN:DAYLIGHT
TZOFFSETFROM:-0600
TZOFFSETTO:-0500
TZNAME:CDT
DTSTART:20270314T080000
END:DAYLIGHT
BEGIN:STANDARD
TZOFFSETFROM:-0500
TZOFFSETTO:-0600
TZNAME:CST
DTSTART:20271107T070000
END:STANDARD
END:VTIMEZONE
BEGIN:VEVENT
DTSTART;TZID=America/Chicago:20260426T130000
DTEND;TZID=America/Chicago:20260426T140000
DTSTAMP:20260422T135304
CREATED:20260317T232606Z
LAST-MODIFIED:20260317T232606Z
UID:10000047-1777208400-1777212000@flcj.org
SUMMARY:Handbell Concert – Sun\, Apr 26
DESCRIPTION:[vc_row css_animation=”” row_type=”row” use_row_as_full_screen_section=”no” type=”full_width” angled_section=”no” text_align=”left” background_image_as_pattern=”without_pattern”][vc_column width=”1/2″][vc_column_text css=””] \nJoin us on Sunday\, April 26\, at 1pm at Hope Lutheran in Milton (335 Dairyland Dr\, Milton) \nThis concert will feature FLC’s Hand Bell Ensemble and Hope Lutheran’s Adult Bell Choir. This event is free and open to the public\, and we will be showcasing a double handbell choir song especially for that day! Bring friends! \n[/vc_column_text][/vc_column][vc_column width=”1/2″][vc_single_image image=”22004″ img_size=”full” alignment=”center” css=”” qode_css_animation=””][/vc_column][/vc_row]
URL:https://flcj.org/event/handbell-concert-sun-apr-26/
LOCATION:Hope Lutheran Church\, 335 Dairyland Dr\, Milton\, WI
CATEGORIES:Music
ATTACH;FMTTYPE=image/jpeg:https://flcj.org/wp-content/uploads/2026/03/handbells.jpg
ORGANIZER;CN="First Lutheran Church":MAILTO:office@flcj.org
END:VEVENT
END:VCALENDAR