BEGIN:VCALENDAR
VERSION:2.0
PRODID:-//First Lutheran Church | Janesville, WI - ECPv6.15.19//NONSGML v1.0//EN
CALSCALE:GREGORIAN
METHOD:PUBLISH
X-WR-CALNAME:First Lutheran Church | Janesville, WI
X-ORIGINAL-URL:https://flcj.org
X-WR-CALDESC:Events for First Lutheran Church | Janesville, WI
REFRESH-INTERVAL;VALUE=DURATION:PT1H
X-Robots-Tag:noindex
X-PUBLISHED-TTL:PT1H
BEGIN:VTIMEZONE
TZID:America/Chicago
BEGIN:DAYLIGHT
TZOFFSETFROM:-0600
TZOFFSETTO:-0500
TZNAME:CDT
DTSTART:20250309T080000
END:DAYLIGHT
BEGIN:STANDARD
TZOFFSETFROM:-0500
TZOFFSETTO:-0600
TZNAME:CST
DTSTART:20251102T070000
END:STANDARD
BEGIN:DAYLIGHT
TZOFFSETFROM:-0600
TZOFFSETTO:-0500
TZNAME:CDT
DTSTART:20260308T080000
END:DAYLIGHT
BEGIN:STANDARD
TZOFFSETFROM:-0500
TZOFFSETTO:-0600
TZNAME:CST
DTSTART:20261101T070000
END:STANDARD
BEGIN:DAYLIGHT
TZOFFSETFROM:-0600
TZOFFSETTO:-0500
TZNAME:CDT
DTSTART:20270314T080000
END:DAYLIGHT
BEGIN:STANDARD
TZOFFSETFROM:-0500
TZOFFSETTO:-0600
TZNAME:CST
DTSTART:20271107T070000
END:STANDARD
END:VTIMEZONE
BEGIN:VEVENT
DTSTART;TZID=America/Chicago:20260318T173000
DTEND;TZID=America/Chicago:20260318T183000
DTSTAMP:20260421T043321
CREATED:20260311T051309Z
LAST-MODIFIED:20260311T051309Z
UID:10000028-1773855000-1773858600@flcj.org
SUMMARY:Lenten Potluck – Wed\, Mar 18
DESCRIPTION:[vc_row css_animation=”” row_type=”row” use_row_as_full_screen_section=”no” type=”full_width” angled_section=”no” text_align=”left” background_image_as_pattern=”without_pattern”][vc_column width=”1/2″][vc_column_text css=””] \nJoin us for a Lenten potluck meal as we gather in fellowship during this season of reflection. A main dish will be provided by our leadership teams\, and everyone is invited to bring their own place settings along with a side dish to share. This is a wonderful opportunity to connect\, share a meal\, and spend time together as a community during Lent. \n[/vc_column_text][/vc_column][vc_column width=”1/2″][vc_single_image image=”21570″ img_size=”full” alignment=”center” css=”” qode_css_animation=””][/vc_column][/vc_row]
URL:https://flcj.org/event/lenten-potluck-wed-mar-18/
LOCATION:Gathering Space
CATEGORIES:Lent,Worship
ATTACH;FMTTYPE=image/jpeg:https://flcj.org/wp-content/uploads/2026/03/Lenten-Potluck.jpg
ORGANIZER;CN="First Lutheran Church":MAILTO:office@flcj.org
END:VEVENT
BEGIN:VEVENT
DTSTART;TZID=America/Chicago:20260318T173000
DTEND;TZID=America/Chicago:20260318T180000
DTSTAMP:20260421T043321
CREATED:20260311T044051Z
LAST-MODIFIED:20260311T044356Z
UID:10000022-1773855000-1773856800@flcj.org
SUMMARY:Lenten Food Drive – Wed\, Mar 18
DESCRIPTION:[vc_row css_animation=”” row_type=”row” use_row_as_full_screen_section=”no” type=”full_width” angled_section=”no” text_align=”left” background_image_as_pattern=”without_pattern”][vc_column width=”1/2″][vc_column_text css=””] \nAs a founding member of ECHO\, FLC will once again sponsor a Lenten food drive. All non-perishable food donations are welcome and greatly appreciated\, with a featured item highlighted each week. Donations may be placed in the ECHO barrel at the main entrance through March 29. Let’s come together to reach\, nourish\, and empower. \nMar 18: Canned soup or chili\nMar 25: Dish soap \n[/vc_column_text][/vc_column][vc_column width=”1/2″][vc_single_image image=”21544″ img_size=”full” alignment=”center” css=”” qode_css_animation=””][/vc_column][/vc_row]
URL:https://flcj.org/event/lenten-food-drive-wed-mar-18/
LOCATION:Main Entrance
CATEGORIES:Lent
ATTACH;FMTTYPE=image/jpeg:https://flcj.org/wp-content/uploads/2026/03/lenten-food-drive.jpg
ORGANIZER;CN="First Lutheran Church":MAILTO:office@flcj.org
END:VEVENT
BEGIN:VEVENT
DTSTART;TZID=America/Chicago:20260318T140000
DTEND;TZID=America/Chicago:20260318T150000
DTSTAMP:20260421T043321
CREATED:20260311T014812Z
LAST-MODIFIED:20260311T174121Z
UID:10000007-1773842400-1773846000@flcj.org
SUMMARY:Hymn Sing – Wed\, Mar 18
DESCRIPTION:[vc_row css_animation=”” row_type=”row” use_row_as_full_screen_section=”no” type=”full_width” angled_section=”no” text_align=”left” background_image_as_pattern=”without_pattern”][vc_column width=”1/2″][vc_column_text css=””] \n\n\nWe would love to have you join us at our monthly Hymn Sings. This month\, it’s on Wed\, Mar 18\, at 2pm at Cedar Crest Assisted Living (1702 S River Rd\, Janesville). Bring your friendship and singing voice\, and we’ll supply the rest! All are welcome! \n\n\n[/vc_column_text][/vc_column][vc_column width=”1/2″][vc_single_image image=”21583″ img_size=”full” alignment=”center” css=”” qode_css_animation=””][/vc_column][/vc_row]
URL:https://flcj.org/event/hymn-sing-wed-mar-18/
LOCATION:Cedar Crest Assisted Living\, 1702 S River Rd\, Janesville\, WI
CATEGORIES:Hymn Sing,Music
ATTACH;FMTTYPE=image/jpeg:https://flcj.org/wp-content/uploads/2026/03/hymn-sing-huntington-place.jpg
ORGANIZER;CN="First Lutheran Church":MAILTO:office@flcj.org
END:VEVENT
BEGIN:VEVENT
DTSTART;TZID=America/Chicago:20260318T110000
DTEND;TZID=America/Chicago:20260318T113000
DTSTAMP:20260421T043321
CREATED:20260311T045047Z
LAST-MODIFIED:20260311T050542Z
UID:10000024-1773831600-1773833400@flcj.org
SUMMARY:Lenten 11am Worship – Wed\, Mar 18
DESCRIPTION:[vc_row css_animation=”” row_type=”row” use_row_as_full_screen_section=”no” type=”full_width” angled_section=”no” text_align=”left” background_image_as_pattern=”without_pattern”][vc_column width=”1/2″][vc_column_text css=””] \nJoin us for worship during the season of Lent in the Chapel at 11am. This service offers a time for reflection\, prayer\, and music as we journey together through the Lenten season and prepare our hearts for Easter. \n[/vc_column_text][/vc_column][vc_column width=”1/2″][vc_single_image image=”21554″ img_size=”full” alignment=”center” css=”” qode_css_animation=””][/vc_column][/vc_row]
URL:https://flcj.org/event/lenten-11am-worship-wed-mar-18/
LOCATION:Chapel
CATEGORIES:Lent,Worship
ATTACH;FMTTYPE=image/jpeg:https://flcj.org/wp-content/uploads/2026/03/Lent-11am-Worship.jpg
ORGANIZER;CN="First Lutheran Church":MAILTO:office@flcj.org
END:VEVENT
BEGIN:VEVENT
DTSTART;TZID=America/Chicago:20260318T100000
DTEND;TZID=America/Chicago:20260318T110000
DTSTAMP:20260421T043321
CREATED:20260311T042517Z
LAST-MODIFIED:20260420T182844Z
UID:10000020-1773828000-1773831600@flcj.org
SUMMARY:Bible Study
DESCRIPTION:[vc_row css_animation=”” row_type=”row” use_row_as_full_screen_section=”no” type=”full_width” angled_section=”no” text_align=”left” background_image_as_pattern=”without_pattern”][vc_column width=”1/2″][vc_column_text css=””]Please join our Wednesday Bible Study as we begin a new unit using A is for Alabaster: 52 Reflections on the Stories of Scripture by Anna Carter Florence. This 2023 book received great reviews from many well-known theologians. In the coming weeks\, we will be jumping into both Old Testament and New Testament stories through the 52 doors opened by this insightful author. We will meet at Good Shepherd Lutheran Church in Janesville.[/vc_column_text][/vc_column][vc_column width=”1/2″][vc_single_image image=”17345″ img_size=”full” alignment=”center” css=”” qode_css_animation=””][/vc_column][/vc_row]
URL:https://flcj.org/event/bible-study/2026-03-18/
LOCATION:Good Shepherd Janesville\, 700 N Wright Rd\, Janesville\, WI
CATEGORIES:Bible Study
ATTACH;FMTTYPE=image/jpeg:https://flcj.org/wp-content/uploads/2022/08/bible-study.jpeg
ORGANIZER;CN="First Lutheran Church":MAILTO:office@flcj.org
END:VEVENT
BEGIN:VEVENT
DTSTART;TZID=America/Chicago:20260318T083000
DTEND;TZID=America/Chicago:20260318T110000
DTSTAMP:20260421T043321
CREATED:20260311T041433Z
LAST-MODIFIED:20260319T010227Z
UID:10000019-1773822600-1773831600@flcj.org
SUMMARY:Mission Sew
DESCRIPTION:[vc_row css_animation=”” row_type=”row” use_row_as_full_screen_section=”no” type=”full_width” angled_section=”no” text_align=”left” background_image_as_pattern=”without_pattern”][vc_column width=”1/2″][vc_column_text css=””]Help Mission Sew with cutting\, sewing\, tying\, and pinning quilts for Lutheran World Relief. These quilts are distributed to struggling neighbors across the globe. For more info\, contact Margaret Drinkwater\, by contacting the church at 608.752.7434.[/vc_column_text][/vc_column][vc_column width=”1/2″][vc_single_image image=”21534″ img_size=”full” alignment=”center” css=”” qode_css_animation=””][/vc_column][/vc_row]
URL:https://flcj.org/event/mission-sew/2026-03-18/
LOCATION:Fellowship Hall
CATEGORIES:Mission Sew
ATTACH;FMTTYPE=image/jpeg:https://flcj.org/wp-content/uploads/2026/03/Mission-Sew-2025.jpg
ORGANIZER;CN="First Lutheran Church":MAILTO:office@flcj.org
END:VEVENT
BEGIN:VEVENT
DTSTART;TZID=America/Chicago:20260317T090000
DTEND;TZID=America/Chicago:20260317T103000
DTSTAMP:20260421T043321
CREATED:20260311T034128Z
LAST-MODIFIED:20260311T034645Z
UID:10000018-1773738000-1773743400@flcj.org
SUMMARY:Knitters – Tues\, Mar 17
DESCRIPTION:[vc_row css_animation=”” row_type=”row” use_row_as_full_screen_section=”no” type=”full_width” angled_section=”no” text_align=”left” background_image_as_pattern=”without_pattern”][vc_column width=”1/2″][vc_column_text css=””]Join us at 9am in the Gathering Space for smiles\, laughs\, and lots of knitting![/vc_column_text][/vc_column][vc_column width=”1/2″][vc_single_image image=”21528″ img_size=”full” alignment=”center” css=”” qode_css_animation=””][/vc_column][/vc_row]
URL:https://flcj.org/event/knitters-tues-mar-17/
LOCATION:Gathering Space
CATEGORIES:Knitters
ATTACH;FMTTYPE=image/jpeg:https://flcj.org/wp-content/uploads/2026/03/knitters-logo-1.jpg
ORGANIZER;CN="First Lutheran Church":MAILTO:office@flcj.org
END:VEVENT
BEGIN:VEVENT
DTSTART;TZID=America/Chicago:20260317T080000
DTEND;TZID=America/Chicago:20260317T110000
DTSTAMP:20260421T043321
CREATED:20260310T205432Z
LAST-MODIFIED:20260311T034727Z
UID:10000004-1773734400-1773745200@flcj.org
SUMMARY:The BG’s – Tues\, Mar 17
DESCRIPTION:[vc_row css_animation=”” row_type=”row” use_row_as_full_screen_section=”no” type=”full_width” angled_section=”no” text_align=”left” background_image_as_pattern=”without_pattern”][vc_column width=”1/2″][vc_column_text css=””]Tues from 8-11am in Fellowship Hall Lounge\nThe BG’s are a group of 6-10 (mostly retired) guys that gather every Tuesday at 8am for coffee\, socializing\, and to handle the many outdoor and indoor miscellaneous maintenance needs around First Lutheran. If you are interested in joining this group stop by Tuesday as we are always looking for new people to join our team![/vc_column_text][/vc_column][vc_column width=”1/2″][vc_single_image image=”21511″ img_size=”full” alignment=”center” css=”” qode_css_animation=””][/vc_column][/vc_row]
URL:https://flcj.org/event/the-bgs-tuesday-march-17/
LOCATION:Fellowship Hall Lounge
CATEGORIES:Men's Group,The BG’s
ATTACH;FMTTYPE=image/jpeg:https://flcj.org/wp-content/uploads/2026/03/BGs-2023.jpg
ORGANIZER;CN="First Lutheran Church":MAILTO:office@flcj.org
END:VEVENT
BEGIN:VEVENT
DTSTART;TZID=America/Chicago:20260316T200000
DTEND;TZID=America/Chicago:20260316T203000
DTSTAMP:20260421T043321
CREATED:20260310T203701Z
LAST-MODIFIED:20260311T022430Z
UID:10000003-1773691200-1773693000@flcj.org
SUMMARY:Centering Prayer – Mon\, Mar 16
DESCRIPTION:[vc_row css_animation=”” row_type=”row” use_row_as_full_screen_section=”no” type=”full_width” angled_section=”no” text_align=”left” background_image_as_pattern=”without_pattern”][vc_column width=”1/2″][vc_column_text css=””]Mons from 8-8:30pm via Zoom\nCentering prayer\, also known as the prayer of silence\, helps you quiet your mind from the constant thoughts and impulses\, and frees your true self to experience more of God’s love in the very core of your being. You will gain inspiration\, rich insight\, and practical knowledge of a contemplative prayer practice that can open you up to deep experiences of inner healing and peace. Everyone is welcome to take part. \nLogin Link: https://tinyurl.com/2p89n5sc\nMeeting ID: 816 1696 9038\nPasscode: 224107[/vc_column_text][/vc_column][vc_column width=”1/2″][vc_single_image image=”21425″ img_size=”full” alignment=”center” css=”” qode_css_animation=””][/vc_column][/vc_row]
URL:https://flcj.org/event/centering-prayer-monday-march-16/
LOCATION:Online Zoom
CATEGORIES:Centering Prayer,Prayer
ATTACH;FMTTYPE=image/jpeg:https://flcj.org/wp-content/uploads/2026/03/Centering-Prayer.jpeg
ORGANIZER;CN="First Lutheran Church":MAILTO:office@flcj.org
END:VEVENT
END:VCALENDAR