BEGIN:VCALENDAR
VERSION:2.0
PRODID:-//First Lutheran Church | Janesville, WI - ECPv6.15.19//NONSGML v1.0//EN
CALSCALE:GREGORIAN
METHOD:PUBLISH
X-ORIGINAL-URL:https://flcj.org
X-WR-CALDESC:Events for First Lutheran Church | Janesville, WI
REFRESH-INTERVAL;VALUE=DURATION:PT1H
X-Robots-Tag:noindex
X-PUBLISHED-TTL:PT1H
BEGIN:VTIMEZONE
TZID:America/Chicago
BEGIN:DAYLIGHT
TZOFFSETFROM:-0600
TZOFFSETTO:-0500
TZNAME:CDT
DTSTART:20300310T080000
END:DAYLIGHT
BEGIN:STANDARD
TZOFFSETFROM:-0500
TZOFFSETTO:-0600
TZNAME:CST
DTSTART:20301103T070000
END:STANDARD
BEGIN:DAYLIGHT
TZOFFSETFROM:-0600
TZOFFSETTO:-0500
TZNAME:CDT
DTSTART:20310309T080000
END:DAYLIGHT
BEGIN:STANDARD
TZOFFSETFROM:-0500
TZOFFSETTO:-0600
TZNAME:CST
DTSTART:20311102T070000
END:STANDARD
BEGIN:DAYLIGHT
TZOFFSETFROM:-0600
TZOFFSETTO:-0500
TZNAME:CDT
DTSTART:20320314T080000
END:DAYLIGHT
BEGIN:STANDARD
TZOFFSETFROM:-0500
TZOFFSETTO:-0600
TZNAME:CST
DTSTART:20321107T070000
END:STANDARD
END:VTIMEZONE
BEGIN:VEVENT
DTSTART;TZID=America/Chicago:20310310T200000
DTEND;TZID=America/Chicago:20310310T203000
DTSTAMP:20260422T170259
CREATED:20260310T203507Z
LAST-MODIFIED:20260319T005156Z
UID:10000367-1930939200-1930941000@flcj.org
SUMMARY:Centering Prayer
DESCRIPTION:[vc_row css_animation=”” row_type=”row” use_row_as_full_screen_section=”no” type=”full_width” angled_section=”no” text_align=”left” background_image_as_pattern=”without_pattern”][vc_column width=”1/2″][vc_column_text css=””]Mons from 8-8:30pm via Zoom\nCentering prayer\, also known as the prayer of silence\, helps you quiet your mind from the constant thoughts and impulses\, and frees your true self to experience more of God’s love in the very core of your being. You will gain inspiration\, rich insight\, and practical knowledge of a contemplative prayer practice that can open you up to deep experiences of inner healing and peace. Everyone is welcome to take part. \nLogin Link: https://tinyurl.com/2p89n5sc\nMeeting ID: 816 1696 9038\nPasscode: 224107[/vc_column_text][/vc_column][vc_column width=”1/2″][vc_single_image image=”21425″ img_size=”full” alignment=”center” css=”” qode_css_animation=””][/vc_column][/vc_row]
URL:https://flcj.org/event/centering-prayer/2031-03-10/
LOCATION:Online Zoom
CATEGORIES:Centering Prayer,Prayer
ATTACH;FMTTYPE=image/jpeg:https://flcj.org/wp-content/uploads/2026/03/Centering-Prayer.jpeg
ORGANIZER;CN="First Lutheran Church":MAILTO:office@flcj.org
END:VEVENT
BEGIN:VEVENT
DTSTART;TZID=America/Chicago:20310311T080000
DTEND;TZID=America/Chicago:20310311T110000
DTSTAMP:20260422T170259
CREATED:20260315T204112Z
LAST-MODIFIED:20260319T005518Z
UID:10000627-1930982400-1930993200@flcj.org
SUMMARY:The BG’s
DESCRIPTION:[vc_row css_animation=”” row_type=”row” use_row_as_full_screen_section=”no” type=”full_width” angled_section=”no” text_align=”left” background_image_as_pattern=”without_pattern”][vc_column width=”1/2″][vc_column_text css=””]Tues from 8-11am in Fellowship Hall Lounge\nThe BG’s are a group of 6-10 (mostly retired) guys that gather every Tuesday at 8am for coffee\, socializing\, and to handle the many outdoor and indoor miscellaneous maintenance needs around First Lutheran. If you are interested in joining this group stop by Tuesday as we are always looking for new people to join our team![/vc_column_text][/vc_column][vc_column width=”1/2″][vc_single_image image=”21511″ img_size=”full” alignment=”center” css=”” qode_css_animation=””][/vc_column][/vc_row]
URL:https://flcj.org/event/the-bgs/2031-03-11/
LOCATION:Fellowship Hall Lounge
CATEGORIES:Men's Group,The BG’s
ATTACH;FMTTYPE=image/jpeg:https://flcj.org/wp-content/uploads/2026/03/BGs-2023.jpg
ORGANIZER;CN="First Lutheran Church":MAILTO:office@flcj.org
END:VEVENT
BEGIN:VEVENT
DTSTART;TZID=America/Chicago:20310312T100000
DTEND;TZID=America/Chicago:20310312T110000
DTSTAMP:20260422T170259
CREATED:20260311T042517Z
LAST-MODIFIED:20260420T182844Z
UID:10000888-1931076000-1931079600@flcj.org
SUMMARY:Bible Study
DESCRIPTION:[vc_row css_animation=”” row_type=”row” use_row_as_full_screen_section=”no” type=”full_width” angled_section=”no” text_align=”left” background_image_as_pattern=”without_pattern”][vc_column width=”1/2″][vc_column_text css=””]Please join our Wednesday Bible Study as we begin a new unit using A is for Alabaster: 52 Reflections on the Stories of Scripture by Anna Carter Florence. This 2023 book received great reviews from many well-known theologians. In the coming weeks\, we will be jumping into both Old Testament and New Testament stories through the 52 doors opened by this insightful author. We will meet at Good Shepherd Lutheran Church in Janesville.[/vc_column_text][/vc_column][vc_column width=”1/2″][vc_single_image image=”17345″ img_size=”full” alignment=”center” css=”” qode_css_animation=””][/vc_column][/vc_row]
URL:https://flcj.org/event/bible-study/2031-03-12/
LOCATION:Good Shepherd Janesville\, 700 N Wright Rd\, Janesville\, WI
CATEGORIES:Bible Study
ATTACH;FMTTYPE=image/jpeg:https://flcj.org/wp-content/uploads/2022/08/bible-study.jpeg
ORGANIZER;CN="First Lutheran Church":MAILTO:office@flcj.org
END:VEVENT
BEGIN:VEVENT
DTSTART;TZID=America/Chicago:20310317T200000
DTEND;TZID=America/Chicago:20310317T203000
DTSTAMP:20260422T170300
CREATED:20260310T203507Z
LAST-MODIFIED:20260319T005156Z
UID:10000368-1931544000-1931545800@flcj.org
SUMMARY:Centering Prayer
DESCRIPTION:[vc_row css_animation=”” row_type=”row” use_row_as_full_screen_section=”no” type=”full_width” angled_section=”no” text_align=”left” background_image_as_pattern=”without_pattern”][vc_column width=”1/2″][vc_column_text css=””]Mons from 8-8:30pm via Zoom\nCentering prayer\, also known as the prayer of silence\, helps you quiet your mind from the constant thoughts and impulses\, and frees your true self to experience more of God’s love in the very core of your being. You will gain inspiration\, rich insight\, and practical knowledge of a contemplative prayer practice that can open you up to deep experiences of inner healing and peace. Everyone is welcome to take part. \nLogin Link: https://tinyurl.com/2p89n5sc\nMeeting ID: 816 1696 9038\nPasscode: 224107[/vc_column_text][/vc_column][vc_column width=”1/2″][vc_single_image image=”21425″ img_size=”full” alignment=”center” css=”” qode_css_animation=””][/vc_column][/vc_row]
URL:https://flcj.org/event/centering-prayer/2031-03-17/
LOCATION:Online Zoom
CATEGORIES:Centering Prayer,Prayer
ATTACH;FMTTYPE=image/jpeg:https://flcj.org/wp-content/uploads/2026/03/Centering-Prayer.jpeg
ORGANIZER;CN="First Lutheran Church":MAILTO:office@flcj.org
END:VEVENT
BEGIN:VEVENT
DTSTART;TZID=America/Chicago:20310318T080000
DTEND;TZID=America/Chicago:20310318T110000
DTSTAMP:20260422T170300
CREATED:20260315T204112Z
LAST-MODIFIED:20260319T005518Z
UID:10000628-1931587200-1931598000@flcj.org
SUMMARY:The BG’s
DESCRIPTION:[vc_row css_animation=”” row_type=”row” use_row_as_full_screen_section=”no” type=”full_width” angled_section=”no” text_align=”left” background_image_as_pattern=”without_pattern”][vc_column width=”1/2″][vc_column_text css=””]Tues from 8-11am in Fellowship Hall Lounge\nThe BG’s are a group of 6-10 (mostly retired) guys that gather every Tuesday at 8am for coffee\, socializing\, and to handle the many outdoor and indoor miscellaneous maintenance needs around First Lutheran. If you are interested in joining this group stop by Tuesday as we are always looking for new people to join our team![/vc_column_text][/vc_column][vc_column width=”1/2″][vc_single_image image=”21511″ img_size=”full” alignment=”center” css=”” qode_css_animation=””][/vc_column][/vc_row]
URL:https://flcj.org/event/the-bgs/2031-03-18/
LOCATION:Fellowship Hall Lounge
CATEGORIES:Men's Group,The BG’s
ATTACH;FMTTYPE=image/jpeg:https://flcj.org/wp-content/uploads/2026/03/BGs-2023.jpg
ORGANIZER;CN="First Lutheran Church":MAILTO:office@flcj.org
END:VEVENT
BEGIN:VEVENT
DTSTART;TZID=America/Chicago:20310318T090000
DTEND;TZID=America/Chicago:20310318T103000
DTSTAMP:20260422T170300
CREATED:20260319T150948Z
LAST-MODIFIED:20260319T151705Z
UID:10001368-1931590800-1931596200@flcj.org
SUMMARY:Knitters
DESCRIPTION:[vc_row css_animation=”” row_type=”row” use_row_as_full_screen_section=”no” type=”full_width” angled_section=”no” text_align=”left” background_image_as_pattern=”without_pattern”][vc_column width=”1/2″][vc_column_text css=””]Join us at 9am in the Gathering Space for smiles\, laughs\, and lots of knitting![/vc_column_text][/vc_column][vc_column width=”1/2″][vc_single_image image=”22104″ img_size=”full” alignment=”center” css=”” qode_css_animation=””][/vc_column][/vc_row]
URL:https://flcj.org/event/knitters-3/2031-03-18/
LOCATION:Gathering Space
CATEGORIES:Knitters
ATTACH;FMTTYPE=image/jpeg:https://flcj.org/wp-content/uploads/2026/03/knitting-WEB-events.jpg
ORGANIZER;CN="First Lutheran Church":MAILTO:office@flcj.org
END:VEVENT
BEGIN:VEVENT
DTSTART;TZID=America/Chicago:20310319T100000
DTEND;TZID=America/Chicago:20310319T110000
DTSTAMP:20260422T170300
CREATED:20260311T042517Z
LAST-MODIFIED:20260420T182844Z
UID:10001398-1931680800-1931684400@flcj.org
SUMMARY:Bible Study
DESCRIPTION:[vc_row css_animation=”” row_type=”row” use_row_as_full_screen_section=”no” type=”full_width” angled_section=”no” text_align=”left” background_image_as_pattern=”without_pattern”][vc_column width=”1/2″][vc_column_text css=””]Please join our Wednesday Bible Study as we begin a new unit using A is for Alabaster: 52 Reflections on the Stories of Scripture by Anna Carter Florence. This 2023 book received great reviews from many well-known theologians. In the coming weeks\, we will be jumping into both Old Testament and New Testament stories through the 52 doors opened by this insightful author. We will meet at Good Shepherd Lutheran Church in Janesville.[/vc_column_text][/vc_column][vc_column width=”1/2″][vc_single_image image=”17345″ img_size=”full” alignment=”center” css=”” qode_css_animation=””][/vc_column][/vc_row]
URL:https://flcj.org/event/bible-study/2031-03-19/
LOCATION:Good Shepherd Janesville\, 700 N Wright Rd\, Janesville\, WI
CATEGORIES:Bible Study
ATTACH;FMTTYPE=image/jpeg:https://flcj.org/wp-content/uploads/2022/08/bible-study.jpeg
ORGANIZER;CN="First Lutheran Church":MAILTO:office@flcj.org
END:VEVENT
BEGIN:VEVENT
DTSTART;TZID=America/Chicago:20310326T100000
DTEND;TZID=America/Chicago:20310326T110000
DTSTAMP:20260422T170300
CREATED:20260311T042517Z
LAST-MODIFIED:20260420T182844Z
UID:10001399-1932285600-1932289200@flcj.org
SUMMARY:Bible Study
DESCRIPTION:[vc_row css_animation=”” row_type=”row” use_row_as_full_screen_section=”no” type=”full_width” angled_section=”no” text_align=”left” background_image_as_pattern=”without_pattern”][vc_column width=”1/2″][vc_column_text css=””]Please join our Wednesday Bible Study as we begin a new unit using A is for Alabaster: 52 Reflections on the Stories of Scripture by Anna Carter Florence. This 2023 book received great reviews from many well-known theologians. In the coming weeks\, we will be jumping into both Old Testament and New Testament stories through the 52 doors opened by this insightful author. We will meet at Good Shepherd Lutheran Church in Janesville.[/vc_column_text][/vc_column][vc_column width=”1/2″][vc_single_image image=”17345″ img_size=”full” alignment=”center” css=”” qode_css_animation=””][/vc_column][/vc_row]
URL:https://flcj.org/event/bible-study/2031-03-26/
LOCATION:Good Shepherd Janesville\, 700 N Wright Rd\, Janesville\, WI
CATEGORIES:Bible Study
ATTACH;FMTTYPE=image/jpeg:https://flcj.org/wp-content/uploads/2022/08/bible-study.jpeg
ORGANIZER;CN="First Lutheran Church":MAILTO:office@flcj.org
END:VEVENT
BEGIN:VEVENT
DTSTART;TZID=America/Chicago:20310402T100000
DTEND;TZID=America/Chicago:20310402T110000
DTSTAMP:20260422T170300
CREATED:20260311T042517Z
LAST-MODIFIED:20260420T182844Z
UID:10001400-1932890400-1932894000@flcj.org
SUMMARY:Bible Study
DESCRIPTION:[vc_row css_animation=”” row_type=”row” use_row_as_full_screen_section=”no” type=”full_width” angled_section=”no” text_align=”left” background_image_as_pattern=”without_pattern”][vc_column width=”1/2″][vc_column_text css=””]Please join our Wednesday Bible Study as we begin a new unit using A is for Alabaster: 52 Reflections on the Stories of Scripture by Anna Carter Florence. This 2023 book received great reviews from many well-known theologians. In the coming weeks\, we will be jumping into both Old Testament and New Testament stories through the 52 doors opened by this insightful author. We will meet at Good Shepherd Lutheran Church in Janesville.[/vc_column_text][/vc_column][vc_column width=”1/2″][vc_single_image image=”17345″ img_size=”full” alignment=”center” css=”” qode_css_animation=””][/vc_column][/vc_row]
URL:https://flcj.org/event/bible-study/2031-04-02/
LOCATION:Good Shepherd Janesville\, 700 N Wright Rd\, Janesville\, WI
CATEGORIES:Bible Study
ATTACH;FMTTYPE=image/jpeg:https://flcj.org/wp-content/uploads/2022/08/bible-study.jpeg
ORGANIZER;CN="First Lutheran Church":MAILTO:office@flcj.org
END:VEVENT
BEGIN:VEVENT
DTSTART;TZID=America/Chicago:20310409T100000
DTEND;TZID=America/Chicago:20310409T110000
DTSTAMP:20260422T170300
CREATED:20260311T042517Z
LAST-MODIFIED:20260420T182844Z
UID:10001401-1933495200-1933498800@flcj.org
SUMMARY:Bible Study
DESCRIPTION:[vc_row css_animation=”” row_type=”row” use_row_as_full_screen_section=”no” type=”full_width” angled_section=”no” text_align=”left” background_image_as_pattern=”without_pattern”][vc_column width=”1/2″][vc_column_text css=””]Please join our Wednesday Bible Study as we begin a new unit using A is for Alabaster: 52 Reflections on the Stories of Scripture by Anna Carter Florence. This 2023 book received great reviews from many well-known theologians. In the coming weeks\, we will be jumping into both Old Testament and New Testament stories through the 52 doors opened by this insightful author. We will meet at Good Shepherd Lutheran Church in Janesville.[/vc_column_text][/vc_column][vc_column width=”1/2″][vc_single_image image=”17345″ img_size=”full” alignment=”center” css=”” qode_css_animation=””][/vc_column][/vc_row]
URL:https://flcj.org/event/bible-study/2031-04-09/
LOCATION:Good Shepherd Janesville\, 700 N Wright Rd\, Janesville\, WI
CATEGORIES:Bible Study
ATTACH;FMTTYPE=image/jpeg:https://flcj.org/wp-content/uploads/2022/08/bible-study.jpeg
ORGANIZER;CN="First Lutheran Church":MAILTO:office@flcj.org
END:VEVENT
BEGIN:VEVENT
DTSTART;TZID=America/Chicago:20310416T100000
DTEND;TZID=America/Chicago:20310416T110000
DTSTAMP:20260422T170300
CREATED:20260311T042517Z
LAST-MODIFIED:20260420T182844Z
UID:10001402-1934100000-1934103600@flcj.org
SUMMARY:Bible Study
DESCRIPTION:[vc_row css_animation=”” row_type=”row” use_row_as_full_screen_section=”no” type=”full_width” angled_section=”no” text_align=”left” background_image_as_pattern=”without_pattern”][vc_column width=”1/2″][vc_column_text css=””]Please join our Wednesday Bible Study as we begin a new unit using A is for Alabaster: 52 Reflections on the Stories of Scripture by Anna Carter Florence. This 2023 book received great reviews from many well-known theologians. In the coming weeks\, we will be jumping into both Old Testament and New Testament stories through the 52 doors opened by this insightful author. We will meet at Good Shepherd Lutheran Church in Janesville.[/vc_column_text][/vc_column][vc_column width=”1/2″][vc_single_image image=”17345″ img_size=”full” alignment=”center” css=”” qode_css_animation=””][/vc_column][/vc_row]
URL:https://flcj.org/event/bible-study/2031-04-16/
LOCATION:Good Shepherd Janesville\, 700 N Wright Rd\, Janesville\, WI
CATEGORIES:Bible Study
ATTACH;FMTTYPE=image/jpeg:https://flcj.org/wp-content/uploads/2022/08/bible-study.jpeg
ORGANIZER;CN="First Lutheran Church":MAILTO:office@flcj.org
END:VEVENT
END:VCALENDAR